BEGIN:VCALENDAR
VERSION:2.0
PRODID:-//Shakti Yoga Method - ECPv6.15.20//NONSGML v1.0//EN
CALSCALE:GREGORIAN
METHOD:PUBLISH
X-WR-CALNAME:Shakti Yoga Method
X-ORIGINAL-URL:https://shaktiyogamethod.com
X-WR-CALDESC:Events for Shakti Yoga Method
REFRESH-INTERVAL;VALUE=DURATION:PT1H
X-Robots-Tag:noindex
X-PUBLISHED-TTL:PT1H
BEGIN:VTIMEZONE
TZID:America/St_Johns
BEGIN:DAYLIGHT
TZOFFSETFROM:-0330
TZOFFSETTO:-0230
TZNAME:NDT
DTSTART:20220313T053000
END:DAYLIGHT
BEGIN:STANDARD
TZOFFSETFROM:-0230
TZOFFSETTO:-0330
TZNAME:NST
DTSTART:20221106T043000
END:STANDARD
BEGIN:DAYLIGHT
TZOFFSETFROM:-0330
TZOFFSETTO:-0230
TZNAME:NDT
DTSTART:20230312T053000
END:DAYLIGHT
BEGIN:STANDARD
TZOFFSETFROM:-0230
TZOFFSETTO:-0330
TZNAME:NST
DTSTART:20231105T043000
END:STANDARD
BEGIN:DAYLIGHT
TZOFFSETFROM:-0330
TZOFFSETTO:-0230
TZNAME:NDT
DTSTART:20240310T053000
END:DAYLIGHT
BEGIN:STANDARD
TZOFFSETFROM:-0230
TZOFFSETTO:-0330
TZNAME:NST
DTSTART:20241103T043000
END:STANDARD
END:VTIMEZONE
BEGIN:VEVENT
DTSTART;TZID=America/St_Johns:20230911T190000
DTEND;TZID=America/St_Johns:20231016T201500
DTSTAMP:20260422T155733
CREATED:20230530T164639Z
LAST-MODIFIED:20230909T145526Z
UID:10000004-1694458800-1697487300@shaktiyogamethod.com
SUMMARY:Neurogenic Yoga Fall Session 1 (6 Weeks)
DESCRIPTION:This 6 class session happens every Monday night from 7:00PM to 8:15PM (NST) at the Yoga Kula Cooperative. Each class is recorded\, and made available to attendees for 1 week.
URL:https://shaktiyogamethod.com/event/neurogenic-yoga-fall-session-1/
LOCATION:Yoga Kula Cooperative\, 286 Torbay Road\, St. John's\, NL\, A1A 4L6\, Canada
CATEGORIES:In Studio,Yoga Class
ATTACH;FMTTYPE=image/jpeg:https://shaktiyogamethod.com/wp-content/uploads/2023/06/F-Neurogenic-Yoga.jpg
ORGANIZER;CN="Bobby Bessey":MAILTO:bobby@shaktiyogamethod.com
END:VEVENT
END:VCALENDAR