BEGIN:VCALENDAR
VERSION:2.0
PRODID:-//Shakti Yoga Method - ECPv6.15.20//NONSGML v1.0//EN
CALSCALE:GREGORIAN
METHOD:PUBLISH
X-WR-CALNAME:Shakti Yoga Method
X-ORIGINAL-URL:https://shaktiyogamethod.com
X-WR-CALDESC:Events for Shakti Yoga Method
REFRESH-INTERVAL;VALUE=DURATION:PT1H
X-Robots-Tag:noindex
X-PUBLISHED-TTL:PT1H
BEGIN:VTIMEZONE
TZID:America/St_Johns
BEGIN:DAYLIGHT
TZOFFSETFROM:-0330
TZOFFSETTO:-0230
TZNAME:NDT
DTSTART:20250309T053000
END:DAYLIGHT
BEGIN:STANDARD
TZOFFSETFROM:-0230
TZOFFSETTO:-0330
TZNAME:NST
DTSTART:20251102T043000
END:STANDARD
BEGIN:DAYLIGHT
TZOFFSETFROM:-0330
TZOFFSETTO:-0230
TZNAME:NDT
DTSTART:20260308T053000
END:DAYLIGHT
BEGIN:STANDARD
TZOFFSETFROM:-0230
TZOFFSETTO:-0330
TZNAME:NST
DTSTART:20261101T043000
END:STANDARD
BEGIN:DAYLIGHT
TZOFFSETFROM:-0330
TZOFFSETTO:-0230
TZNAME:NDT
DTSTART:20270314T053000
END:DAYLIGHT
BEGIN:STANDARD
TZOFFSETFROM:-0230
TZOFFSETTO:-0330
TZNAME:NST
DTSTART:20271107T043000
END:STANDARD
END:VTIMEZONE
BEGIN:VEVENT
DTSTART;TZID=America/St_Johns:20260106T190000
DTEND;TZID=America/St_Johns:20260106T201500
DTSTAMP:20260421T070110
CREATED:20251030T112805Z
LAST-MODIFIED:20251106T194525Z
UID:10000091-1767726000-1767730500@shaktiyogamethod.com
SUMMARY:Prenatal Yoga Winter 2026 Session
DESCRIPTION:This 12 class session happens every Tuesday night from 7:00PM to 8:15PM (NST) at the Quidi Vidi Boathouse. Classes are available in-person (spaces limited) or attend live stream classes from anywhere via Microsoft Teams.
URL:https://shaktiyogamethod.com/event/prenatal-yoga-winter-2026/2026-01-06/
LOCATION:Quidi Vidi Boat House\, 10 Clancey Dr\, St. John's\, NL\, A1C 5J2\, Canada
CATEGORIES:In Studio,Live Stream,Yoga Class
ATTACH;FMTTYPE=image/jpeg:https://shaktiyogamethod.com/wp-content/uploads/2023/02/F-Prenatal.jpg
ORGANIZER;CN="Bobby Bessey":MAILTO:bobby@shaktiyogamethod.com
END:VEVENT
BEGIN:VEVENT
DTSTART;TZID=America/St_Johns:20260106T203000
DTEND;TZID=America/St_Johns:20260106T214500
DTSTAMP:20260421T070110
CREATED:20251107T131130Z
LAST-MODIFIED:20251107T131130Z
UID:10000215-1767731400-1767735900@shaktiyogamethod.com
SUMMARY:Hatha Yoga Winter 2026
DESCRIPTION:
URL:https://shaktiyogamethod.com/event/hatha-yoga-winter-2026/2026-01-06/
LOCATION:Quidi Vidi Boat House\, 10 Clancey Dr\, St. John's\, NL\, A1C 5J2\, Canada
CATEGORIES:In Studio,Live Stream,Yoga Class
ATTACH;FMTTYPE=image/jpeg:https://shaktiyogamethod.com/wp-content/uploads/2023/06/group-sporty-people-tree-exercise.jpg
ORGANIZER;CN="Bobby Bessey":MAILTO:bobby@shaktiyogamethod.com
END:VEVENT
BEGIN:VEVENT
DTSTART;TZID=America/St_Johns:20260112T190000
DTEND;TZID=America/St_Johns:20260112T201000
DTSTAMP:20260421T070110
CREATED:20251201T194607Z
LAST-MODIFIED:20251201T195916Z
UID:10000223-1768244400-1768248600@shaktiyogamethod.com
SUMMARY:Neurogenic Yoga Winter 2026 Session (7 Weeks)
DESCRIPTION:This 7 class session happens every Monday night from 7:00PM to 8:10PM (NST) at the Quidi Vidi Boathouse.
URL:https://shaktiyogamethod.com/event/neurogenic-yoga-winter-2026/2026-01-12/
LOCATION:Quidi Vidi Boat House\, 10 Clancey Dr\, St. John's\, NL\, A1C 5J2\, Canada
CATEGORIES:In Studio,Yoga Class
ATTACH;FMTTYPE=image/jpeg:https://shaktiyogamethod.com/wp-content/uploads/2023/06/F-Neurogenic-Yoga.jpg
ORGANIZER;CN="Bobby Bessey":MAILTO:bobby@shaktiyogamethod.com
END:VEVENT
BEGIN:VEVENT
DTSTART;TZID=America/St_Johns:20260113T190000
DTEND;TZID=America/St_Johns:20260113T201500
DTSTAMP:20260421T070110
CREATED:20251030T112805Z
LAST-MODIFIED:20251106T194525Z
UID:10000092-1768330800-1768335300@shaktiyogamethod.com
SUMMARY:Prenatal Yoga Winter 2026 Session
DESCRIPTION:This 12 class session happens every Tuesday night from 7:00PM to 8:15PM (NST) at the Quidi Vidi Boathouse. Classes are available in-person (spaces limited) or attend live stream classes from anywhere via Microsoft Teams.
URL:https://shaktiyogamethod.com/event/prenatal-yoga-winter-2026/2026-01-13/
LOCATION:Quidi Vidi Boat House\, 10 Clancey Dr\, St. John's\, NL\, A1C 5J2\, Canada
CATEGORIES:In Studio,Live Stream,Yoga Class
ATTACH;FMTTYPE=image/jpeg:https://shaktiyogamethod.com/wp-content/uploads/2023/02/F-Prenatal.jpg
ORGANIZER;CN="Bobby Bessey":MAILTO:bobby@shaktiyogamethod.com
END:VEVENT
BEGIN:VEVENT
DTSTART;TZID=America/St_Johns:20260113T203000
DTEND;TZID=America/St_Johns:20260113T214500
DTSTAMP:20260421T070110
CREATED:20251107T131130Z
LAST-MODIFIED:20251107T131130Z
UID:10000216-1768336200-1768340700@shaktiyogamethod.com
SUMMARY:Hatha Yoga Winter 2026
DESCRIPTION:
URL:https://shaktiyogamethod.com/event/hatha-yoga-winter-2026/2026-01-13/
LOCATION:Quidi Vidi Boat House\, 10 Clancey Dr\, St. John's\, NL\, A1C 5J2\, Canada
CATEGORIES:In Studio,Live Stream,Yoga Class
ATTACH;FMTTYPE=image/jpeg:https://shaktiyogamethod.com/wp-content/uploads/2023/06/group-sporty-people-tree-exercise.jpg
ORGANIZER;CN="Bobby Bessey":MAILTO:bobby@shaktiyogamethod.com
END:VEVENT
BEGIN:VEVENT
DTSTART;TZID=America/St_Johns:20260119T190000
DTEND;TZID=America/St_Johns:20260119T201000
DTSTAMP:20260421T070110
CREATED:20251201T194607Z
LAST-MODIFIED:20251201T195916Z
UID:10000224-1768849200-1768853400@shaktiyogamethod.com
SUMMARY:Neurogenic Yoga Winter 2026 Session (7 Weeks)
DESCRIPTION:This 7 class session happens every Monday night from 7:00PM to 8:10PM (NST) at the Quidi Vidi Boathouse.
URL:https://shaktiyogamethod.com/event/neurogenic-yoga-winter-2026/2026-01-19/
LOCATION:Quidi Vidi Boat House\, 10 Clancey Dr\, St. John's\, NL\, A1C 5J2\, Canada
CATEGORIES:In Studio,Yoga Class
ATTACH;FMTTYPE=image/jpeg:https://shaktiyogamethod.com/wp-content/uploads/2023/06/F-Neurogenic-Yoga.jpg
ORGANIZER;CN="Bobby Bessey":MAILTO:bobby@shaktiyogamethod.com
END:VEVENT
BEGIN:VEVENT
DTSTART;TZID=America/St_Johns:20260120T190000
DTEND;TZID=America/St_Johns:20260120T201500
DTSTAMP:20260421T070111
CREATED:20251030T112805Z
LAST-MODIFIED:20251106T194525Z
UID:10000093-1768935600-1768940100@shaktiyogamethod.com
SUMMARY:Prenatal Yoga Winter 2026 Session
DESCRIPTION:This 12 class session happens every Tuesday night from 7:00PM to 8:15PM (NST) at the Quidi Vidi Boathouse. Classes are available in-person (spaces limited) or attend live stream classes from anywhere via Microsoft Teams.
URL:https://shaktiyogamethod.com/event/prenatal-yoga-winter-2026/2026-01-20/
LOCATION:Quidi Vidi Boat House\, 10 Clancey Dr\, St. John's\, NL\, A1C 5J2\, Canada
CATEGORIES:In Studio,Live Stream,Yoga Class
ATTACH;FMTTYPE=image/jpeg:https://shaktiyogamethod.com/wp-content/uploads/2023/02/F-Prenatal.jpg
ORGANIZER;CN="Bobby Bessey":MAILTO:bobby@shaktiyogamethod.com
END:VEVENT
BEGIN:VEVENT
DTSTART;TZID=America/St_Johns:20260120T203000
DTEND;TZID=America/St_Johns:20260120T214500
DTSTAMP:20260421T070111
CREATED:20251107T131130Z
LAST-MODIFIED:20251107T131130Z
UID:10000217-1768941000-1768945500@shaktiyogamethod.com
SUMMARY:Hatha Yoga Winter 2026
DESCRIPTION:
URL:https://shaktiyogamethod.com/event/hatha-yoga-winter-2026/2026-01-20/
LOCATION:Quidi Vidi Boat House\, 10 Clancey Dr\, St. John's\, NL\, A1C 5J2\, Canada
CATEGORIES:In Studio,Live Stream,Yoga Class
ATTACH;FMTTYPE=image/jpeg:https://shaktiyogamethod.com/wp-content/uploads/2023/06/group-sporty-people-tree-exercise.jpg
ORGANIZER;CN="Bobby Bessey":MAILTO:bobby@shaktiyogamethod.com
END:VEVENT
BEGIN:VEVENT
DTSTART;TZID=America/St_Johns:20260123T190000
DTEND;TZID=America/St_Johns:20260123T210000
DTSTAMP:20260421T070111
CREATED:20250223T174205Z
LAST-MODIFIED:20251215T192641Z
UID:10000076-1769194800-1769202000@shaktiyogamethod.com
SUMMARY:200 Hour Yoga Teacher Training Registration (2026)
DESCRIPTION:To register\, select a training type from the options below\,  complete the application form\, and submit. Then forward your $500 deposit via eTransfer to YTT@ShaktiYogaMethod.com (contact Bobby to discuss other payment options). \nYour application will be evaluated upon receipt of deposit. Once both payment and application have been submitted\, you will receive notification regarding acceptance into the program.
URL:https://shaktiyogamethod.com/event/200-hour-yoga-teacher-training-registration-2026/
LOCATION:https://shaktiyogamethod.com/event/200-hour-yoga-teacher-training-registration-2026/
CATEGORIES:In Studio,Live Stream,Teacher Training
ATTACH;FMTTYPE=image/jpeg:https://shaktiyogamethod.com/wp-content/uploads/2023/06/F-200-hours.jpg
ORGANIZER;CN="Bobby Bessey":MAILTO:bobby@shaktiyogamethod.com
END:VEVENT
BEGIN:VEVENT
DTSTART;TZID=America/St_Johns:20260123T190000
DTEND;TZID=America/St_Johns:20260123T210000
DTSTAMP:20260421T070111
CREATED:20251031T170506Z
LAST-MODIFIED:20251031T180758Z
UID:10000197-1769194800-1769202000@shaktiyogamethod.com
SUMMARY:200 Hour Yoga Teacher Training (2026) - Friday
DESCRIPTION:
URL:https://shaktiyogamethod.com/event/200-hour-yoga-teacher-training-2026-friday/2026-01-23/
LOCATION:Quidi Vidi Boat House\, 10 Clancey Dr\, St. John's\, NL\, A1C 5J2\, Canada
CATEGORIES:In Studio,Live Stream,Teacher Training
ATTACH;FMTTYPE=image/jpeg:https://shaktiyogamethod.com/wp-content/uploads/2023/06/F-200-hours.jpg
ORGANIZER;CN="Bobby Bessey":MAILTO:bobby@shaktiyogamethod.com
END:VEVENT
BEGIN:VEVENT
DTSTART;TZID=America/St_Johns:20260124T060000
DTEND;TZID=America/St_Johns:20260124T060000
DTSTAMP:20260421T070111
CREATED:20251031T174806Z
LAST-MODIFIED:20251031T180135Z
UID:10000174-1769234400-1769234400@shaktiyogamethod.com
SUMMARY:200 Hour Yoga Teacher Training (2026) - Saturday
DESCRIPTION:
URL:https://shaktiyogamethod.com/event/200-hour-yoga-teacher-training-2026-saturday/2026-01-24/
LOCATION:Quidi Vidi Boat House\, 10 Clancey Dr\, St. John's\, NL\, A1C 5J2\, Canada
CATEGORIES:In Studio,Live Stream,Teacher Training
ATTACH;FMTTYPE=image/jpeg:https://shaktiyogamethod.com/wp-content/uploads/2023/06/F-200-hours.jpg
ORGANIZER;CN="Bobby Bessey":MAILTO:bobby@shaktiyogamethod.com
END:VEVENT
BEGIN:VEVENT
DTSTART;TZID=America/St_Johns:20260125T060000
DTEND;TZID=America/St_Johns:20260125T060000
DTSTAMP:20260421T070111
CREATED:20251031T175520Z
LAST-MODIFIED:20251031T180026Z
UID:10000186-1769320800-1769320800@shaktiyogamethod.com
SUMMARY:200 Hour Yoga Teacher Training (2026) - Sunday
DESCRIPTION:
URL:https://shaktiyogamethod.com/event/200-ytt-2026-sunday/2026-01-25/
LOCATION:Quidi Vidi Boat House\, 10 Clancey Dr\, St. John's\, NL\, A1C 5J2\, Canada
CATEGORIES:In Studio,Live Stream,Teacher Training
ATTACH;FMTTYPE=image/jpeg:https://shaktiyogamethod.com/wp-content/uploads/2023/06/F-200-hours.jpg
ORGANIZER;CN="Bobby Bessey":MAILTO:bobby@shaktiyogamethod.com
END:VEVENT
BEGIN:VEVENT
DTSTART;TZID=America/St_Johns:20260126T190000
DTEND;TZID=America/St_Johns:20260126T201000
DTSTAMP:20260421T070111
CREATED:20251201T194607Z
LAST-MODIFIED:20251201T195916Z
UID:10000225-1769454000-1769458200@shaktiyogamethod.com
SUMMARY:Neurogenic Yoga Winter 2026 Session (7 Weeks)
DESCRIPTION:This 7 class session happens every Monday night from 7:00PM to 8:10PM (NST) at the Quidi Vidi Boathouse.
URL:https://shaktiyogamethod.com/event/neurogenic-yoga-winter-2026/2026-01-26/
LOCATION:Quidi Vidi Boat House\, 10 Clancey Dr\, St. John's\, NL\, A1C 5J2\, Canada
CATEGORIES:In Studio,Yoga Class
ATTACH;FMTTYPE=image/jpeg:https://shaktiyogamethod.com/wp-content/uploads/2023/06/F-Neurogenic-Yoga.jpg
ORGANIZER;CN="Bobby Bessey":MAILTO:bobby@shaktiyogamethod.com
END:VEVENT
BEGIN:VEVENT
DTSTART;TZID=America/St_Johns:20260127T190000
DTEND;TZID=America/St_Johns:20260127T201500
DTSTAMP:20260421T070111
CREATED:20251030T112805Z
LAST-MODIFIED:20251106T194525Z
UID:10000094-1769540400-1769544900@shaktiyogamethod.com
SUMMARY:Prenatal Yoga Winter 2026 Session
DESCRIPTION:This 12 class session happens every Tuesday night from 7:00PM to 8:15PM (NST) at the Quidi Vidi Boathouse. Classes are available in-person (spaces limited) or attend live stream classes from anywhere via Microsoft Teams.
URL:https://shaktiyogamethod.com/event/prenatal-yoga-winter-2026/2026-01-27/
LOCATION:Quidi Vidi Boat House\, 10 Clancey Dr\, St. John's\, NL\, A1C 5J2\, Canada
CATEGORIES:In Studio,Live Stream,Yoga Class
ATTACH;FMTTYPE=image/jpeg:https://shaktiyogamethod.com/wp-content/uploads/2023/02/F-Prenatal.jpg
ORGANIZER;CN="Bobby Bessey":MAILTO:bobby@shaktiyogamethod.com
END:VEVENT
BEGIN:VEVENT
DTSTART;TZID=America/St_Johns:20260127T203000
DTEND;TZID=America/St_Johns:20260127T214500
DTSTAMP:20260421T070111
CREATED:20251107T131130Z
LAST-MODIFIED:20251107T131130Z
UID:10000218-1769545800-1769550300@shaktiyogamethod.com
SUMMARY:Hatha Yoga Winter 2026
DESCRIPTION:
URL:https://shaktiyogamethod.com/event/hatha-yoga-winter-2026/2026-01-27/
LOCATION:Quidi Vidi Boat House\, 10 Clancey Dr\, St. John's\, NL\, A1C 5J2\, Canada
CATEGORIES:In Studio,Live Stream,Yoga Class
ATTACH;FMTTYPE=image/jpeg:https://shaktiyogamethod.com/wp-content/uploads/2023/06/group-sporty-people-tree-exercise.jpg
ORGANIZER;CN="Bobby Bessey":MAILTO:bobby@shaktiyogamethod.com
END:VEVENT
END:VCALENDAR